BEGIN:VCALENDAR
VERSION:2.0
PRODID:-//Giacomo Sermoneta - ECPv6.15.20//NONSGML v1.0//EN
CALSCALE:GREGORIAN
METHOD:PUBLISH
X-WR-CALNAME:Giacomo Sermoneta
X-ORIGINAL-URL:https://giacomosermoneta.com
X-WR-CALDESC:Events for Giacomo Sermoneta
REFRESH-INTERVAL;VALUE=DURATION:PT1H
X-Robots-Tag:noindex
X-PUBLISHED-TTL:PT1H
BEGIN:VTIMEZONE
TZID:Europe/Zurich
BEGIN:DAYLIGHT
TZOFFSETFROM:+0100
TZOFFSETTO:+0200
TZNAME:CEST
DTSTART:20240331T010000
END:DAYLIGHT
BEGIN:STANDARD
TZOFFSETFROM:+0200
TZOFFSETTO:+0100
TZNAME:CET
DTSTART:20241027T010000
END:STANDARD
BEGIN:DAYLIGHT
TZOFFSETFROM:+0100
TZOFFSETTO:+0200
TZNAME:CEST
DTSTART:20250330T010000
END:DAYLIGHT
BEGIN:STANDARD
TZOFFSETFROM:+0200
TZOFFSETTO:+0100
TZNAME:CET
DTSTART:20251026T010000
END:STANDARD
BEGIN:DAYLIGHT
TZOFFSETFROM:+0100
TZOFFSETTO:+0200
TZNAME:CEST
DTSTART:20260329T010000
END:DAYLIGHT
BEGIN:STANDARD
TZOFFSETFROM:+0200
TZOFFSETTO:+0100
TZNAME:CET
DTSTART:20261025T010000
END:STANDARD
END:VTIMEZONE
BEGIN:VEVENT
DTSTART;TZID=Europe/Zurich:20251109T170000
DTEND;TZID=Europe/Zurich:20251109T190000
DTSTAMP:20260421T050910
CREATED:20251020T141930Z
LAST-MODIFIED:20251020T141930Z
UID:526-1762707600-1762714800@giacomosermoneta.com
SUMMARY:Mozart Requiem
DESCRIPTION:
URL:https://giacomosermoneta.com/event/mozart-requiem/
LOCATION:Evangelical Reformed Church Egg\, Schulstrasse\, Egg\, 8132\, Switzerland
END:VEVENT
BEGIN:VEVENT
DTSTART;TZID=Europe/Zurich:20250622T170000
DTEND;TZID=Europe/Zurich:20250622T190000
DTSTAMP:20260421T050910
CREATED:20250609T180433Z
LAST-MODIFIED:20250609T180740Z
UID:449-1750611600-1750618800@giacomosermoneta.com
SUMMARY:The Company of Heaven Orchestra
DESCRIPTION:
URL:https://giacomosermoneta.com/event/the-company-of-heaven-orchestra-2/
LOCATION:Kirche Neumunster Zurich\, Neumuensterstrasse 10\, Zurich\, 8008\, Switzerland
END:VEVENT
BEGIN:VEVENT
DTSTART;TZID=Europe/Zurich:20250621T200000
DTEND;TZID=Europe/Zurich:20250621T210000
DTSTAMP:20260421T050910
CREATED:20250609T172441Z
LAST-MODIFIED:20250609T172441Z
UID:442-1750536000-1750539600@giacomosermoneta.com
SUMMARY:Festival Chamber Orchestra Zürich
DESCRIPTION:
URL:https://giacomosermoneta.com/event/festival-chamber-orchestra-zurich/
LOCATION:zurich hauptbanhof\, Bahnofplatz\, Zürich\, 8001\, Switzerland
END:VEVENT
BEGIN:VEVENT
DTSTART;TZID=Europe/Zurich:20250620T193000
DTEND;TZID=Europe/Zurich:20250620T210000
DTSTAMP:20260421T050910
CREATED:20250609T180309Z
LAST-MODIFIED:20250609T180309Z
UID:446-1750447800-1750453200@giacomosermoneta.com
SUMMARY:The Company of Heaven Orchestra
DESCRIPTION:
URL:https://giacomosermoneta.com/event/the-company-of-heaven-orchestra/
LOCATION:Ref. Kirche Meilen\, Seestrasse 585\, Meilen\, 8706\, Switzerland
END:VEVENT
BEGIN:VEVENT
DTSTART;TZID=Europe/Zurich:20250607T190000
DTEND;TZID=Europe/Zurich:20250607T200000
DTSTAMP:20260421T050910
CREATED:20250115T134224Z
LAST-MODIFIED:20250121T115802Z
UID:337-1749322800-1749326400@giacomosermoneta.com
SUMMARY:Solo Recital Roma Tre Orchestra
DESCRIPTION:
URL:https://giacomosermoneta.com/event/test/
LOCATION:Tenuta di Tormarancia\, Largo Piero Bergellini\, Rome\, 00142\, Italy
ATTACH;FMTTYPE=image/png:https://giacomosermoneta.com/wp-content/uploads/2025/01/cropped-Untitled-Project-edited.png
END:VEVENT
END:VCALENDAR